BEGIN:VCALENDAR
VERSION:2.0
PRODID:SchoolNow
CALSCALE:GREGORIAN
BEGIN:VEVENT
UID:bba8a18a-3de2-11ee-9d7f-0a58a9feac02
DTSTAMP:20240815T123731Z
SUMMARY:CDD Board Meeting - Aug. 2024
LOCATION:Talavera Amenity Center located at 18955 Rococo Road\, Spring Hill
  FL 34610
URL;VALUE=URI:https://www.talaveracdd.org/calendar/4590386/cdd-board-meetin
 g-aug-2024
DTSTART:20240821T220000Z
DTEND:20240822T000000Z
ATTACH;FILENAME=2024-08-21 Talavera CDD Final Agenda.pdf;FMTTYPE=applicatio
 n/pdf:https://campussuite-storage.s3.amazonaws.com/prod/1558855/f1f876a2-e
 a94-11e9-af19-0a20d2c7fac4/2829741/75b30ef8-5a66-11ef-a88d-0a58a9feac02/fi
 le/2024-08-21 Talavera CDD Final Agenda.pdf
END:VEVENT
END:VCALENDAR
