BEGIN:VCALENDAR
VERSION:2.0
PRODID:SchoolNow
CALSCALE:GREGORIAN
BEGIN:VEVENT
UID:f58cf272-0dad-11ed-bfb8-0aa908c26c4d
DTSTAMP:20230711T202026Z
SUMMARY:CDD Board Meeting - Jul. 2023
LOCATION:Talavera Amenity Center located at 18955 Rococo Road\, Spring Hill
  FL 34610
URL;VALUE=URI:https://www.talaveracdd.org/calendar/3255713/cdd-board-meetin
 g-jul-2023
DTSTART:20230719T220000Z
DTEND:20230720T000000Z
ATTACH;FILENAME=2023-07-19- Talavera CDD - Website Final Agenda.pdf;FMTTYPE
 =application/pdf:https://campussuite-storage.s3.amazonaws.com/prod/1558855
 /f1f876a2-ea94-11e9-af19-0a20d2c7fac4/2628704/5ba12564-2028-11ee-97d6-0a33
 dae03443/file/2023-07-19- Talavera CDD - Website Final Agenda.pdf
END:VEVENT
END:VCALENDAR
