BEGIN:VCALENDAR
VERSION:2.0
PRODID:SchoolNow
CALSCALE:GREGORIAN
BEGIN:VEVENT
UID:e9c02900-0dad-11ed-bd16-0aa908c26c4d
DTSTAMP:20230614T195418Z
SUMMARY:CDD Board Meeting - Jun. 2023
LOCATION:Talavera Amenity Center located at 18955 Rococo Road\, Spring Hill
  FL 34610
URL;VALUE=URI:https://www.talaveracdd.org/calendar/3255712/cdd-board-meetin
 g-jun-2023
DTSTART:20230621T220000Z
DTEND:20230622T000000Z
ATTACH;FILENAME=2023-06-21- Talavera CDD - Website Final Agenda.pdf;FMTTYPE
 =application/pdf:https://campussuite-storage.s3.amazonaws.com/prod/1558855
 /f1f876a2-ea94-11e9-af19-0a20d2c7fac4/2614177/3c9c616a-0aed-11ee-af87-0a82
 18498eef/file/2023-06-21- Talavera CDD - Website Final Agenda.pdf
END:VEVENT
END:VCALENDAR
