BEGIN:VCALENDAR
VERSION:2.0
PRODID:SchoolNow
CALSCALE:GREGORIAN
BEGIN:VEVENT
UID:db3dd0d0-0dad-11ed-8fa6-0aa908c26c4d
DTSTAMP:20230515T162432Z
SUMMARY:CDD Board Meeting - May 2023
LOCATION:Talavera Amenity Center located at 18955 Rococo Road\, Spring Hill
  FL 34610
URL;VALUE=URI:https://www.talaveracdd.org/calendar/3255711/cdd-board-meetin
 g-may-2023
DTSTART:20230517T220000Z
DTEND:20230518T000000Z
ATTACH;FILENAME=2023-05-17- Talavera CDD - Revised Website Final Agenda.pdf
 ;FMTTYPE=application/pdf:https://campussuite-storage.s3.amazonaws.com/prod
 /1558855/f1f876a2-ea94-11e9-af19-0a20d2c7fac4/2593020/f0f52246-f33c-11ed-b
 e36-02f25877bbb3/file/2023-05-17- Talavera CDD - Revised Website Final Age
 nda.pdf
END:VEVENT
END:VCALENDAR
